Workbook

Sheet Mar'26
A1: Taxpayer: | G1: Client Nr:
A2: Tax Number | G2: Purchase Price:
A3: LOGBOOK FOR THE YEAR ENDED 28 February 2027 | G3: Purchase Date:
A5: Vehicle make & model: | G5: Registration no:
A6: Month: | C6: =EDATE(45717,12) -> 46082 | F6: Opening km's: | H6: Closing km's:
A8: Total km's for month: | E8: =G44 -> 0 | G8: Total km's to Date: | I8: =+E8 -> 0
A9: Total business km's for month: | E9: =E44 -> 0 | G9: Total business km's to Date: | I9: =+E9 -> 0
A10: Total private km's for month: | E10: =F44 -> 0 | G10: Total private km's to Date: | I10: =+E10 -> 0
A12: Date | B12: Day | C12: Start Km | D12: End km | E12: Business | F12: Private | G12: Total | H12: From To | J12: Reason
A13: 1 | B13: =TEXT(DATE(YEAR($C$6),MONTH($C$6),A13),"ddd") -> Sun | C13: =G6 -> 0 | D13: =C13+G13 -> 0 | G13: =E13+F13 -> 0
A14: 2 | B14: =TEXT(DATE(YEAR($C$6),MONTH($C$6),A14),"ddd") -> Mon | C14: =D13 -> 0 | D14: =C14+G14 -> 0 | G14: =E14+F14 -> 0
A15: 3 | B15: =TEXT(DATE(YEAR($C$6),MONTH($C$6),A15),"ddd") -> Tue | C15: =D14 -> 0 | D15: =C15+G15 -> 0 | G15: =E15+F15 -> 0
A16: 4 | B16: =TEXT(DATE(YEAR($C$6),MONTH($C$6),A16),"ddd") -> Wed | C16: =D15 -> 0 | D16: =C16+G16 -> 0 | G16: =E16+F16 -> 0
A17: 5 | B17: =TEXT(DATE(YEAR($C$6),MONTH($C$6),A17),"ddd") -> Thu | C17: =D16 -> 0 | D17: =C17+G17 -> 0 | G17: =E17+F17 -> 0
A18: 6 | B18: =TEXT(DATE(YEAR($C$6),MONTH($C$6),A18),"ddd") -> Fri | C18: =D17 -> 0 | D18: =C18+G18 -> 0 | G18: =E18+F18 -> 0
A19: 7 | B19: =TEXT(DATE(YEAR($C$6),MONTH($C$6),A19),"ddd") -> Sat | C19: =D18 -> 0 | D19: =C19+G19 -> 0 | G19: =E19+F19 -> 0
A20: 8 | B20: =TEXT(DATE(YEAR($C$6),MONTH($C$6),A20),"ddd") -> Sun | C20: =D19 -> 0 | D20: =C20+G20 -> 0 | G20: =E20+F20 -> 0
A21: 9 | B21: =TEXT(DATE(YEAR($C$6),MONTH($C$6),A21),"ddd") -> Mon | C21: =D20 -> 0 | D21: =C21+G21 -> 0 | G21: =E21+F21 -> 0
A22: 10 | B22: =TEXT(DATE(YEAR($C$6),MONTH($C$6),A22),"ddd") -> Tue | C22: =D21 -> 0 | D22: =C22+G22 -> 0 | G22: =E22+F22 -> 0
A23: 11 | B23: =TEXT(DATE(YEAR($C$6),MONTH($C$6),A23),"ddd") -> Wed | C23: =D22 -> 0 | D23: =C23+G23 -> 0 | G23: =E23+F23 -> 0
A24: 12 | B24: =TEXT(DATE(YEAR($C$6),MONTH($C$6),A24),"ddd") -> Thu | C24: =D23 -> 0 | D24: =C24+G24 -> 0 | G24: =E24+F24 -> 0
A25: 13 | B25: =TEXT(DATE(YEAR($C$6),MONTH($C$6),A25),"ddd") -> Fri | C25: =D24 -> 0 | D25: =C25+G25 -> 0 | G25: =E25+F25 -> 0
... A43: 31 | B43: =TEXT(DATE(YEAR($C$6),MONTH($C$6),A43),"ddd") -> Tue | C43: =D42 -> 0 | D43: =C43+G43 -> 0 | G43: =E43+F43 -> 0
E44: =SUM(E13:E43) -> 0 | F44: =SUM(F13:F43) -> 0 | G44: =SUM(G13:G43) -> 0

Sheet Apr'26
D1: ='Mar''26'!D1 -> 0 | G1: Client Nr: | H1: ='Mar''26'!H1 -> 0 | I1: ='Mar''26'!I1 -> 0
A2: Tax Number | D2: ='Mar''26'!D2 -> 0 | G2: Purchase Price: | I2: ='Mar''26'!I2 -> 0
A3: ='Mar''26'!A3 -> LOGBOOK FOR THE YEAR ENDED 28 February 2027 | G3: Purchase Date: | I3: ='Mar''26'!I3 -> 0
A5: Vehicle make & model: | D5: ='Mar''26'!D5 -> 0 | G5: Registration no: | H5: ='Mar''26'!H5 -> 0 | I5: ='Mar''26'!I5 -> 0
A6: Month: | C6: =EDATE(45748,12) -> 46113 | F6: Opening km's: | G6: ='Mar''26'!I6 -> 0 | H6: Closing km's: | I6: =G6+E8 -> 0
A8: Total km's for month: | E8: =G43 -> 0 | G8: Total km's to Date: | I8: ='Mar''26'!I8+'Apr''26'!G43 -> 0
A9: Total business km's for month: | E9: =E43 -> 0 | G9: Total business km's to Date: | I9: ='Mar''26'!I9+'Apr''26'!E43 -> 0
A10: Total private km's for month: | E10: =F43 -> 0 | G10: Total private km's to Date: | I10: ='Mar''26'!I10+'Apr''26'!F43 -> 0
A12: Date | B12: Day | C12: Start km | D12: End km | E12: Business | F12: Private | G12: Total | H12: From To | J12: Reason
A13: 1 | B13: =TEXT(DATE(YEAR($C$6),MONTH($C$6),A13),"ddd") -> Wed | C13: =G6 -> 0 | D13: =C13+G13 -> 0 | G13: =E13+F13 -> 0
A14: 2 | B14: =TEXT(DATE(YEAR($C$6),MONTH($C$6),A14),"ddd") -> Thu | C14: =D13 -> 0 | D14: =C14+G14 -> 0 | G14: =E14+F14 -> 0
A15: 3 | B15: =TEXT(DATE(YEAR($C$6),MONTH($C$6),A15),"ddd") -> Fri | C15: =D14 -> 0 | D15: =C15+G15 -> 0 | G15: =E15+F15 -> 0
A16: 4 | B16: =TEXT(DATE(YEAR($C$6),MONTH($C$6),A16),"ddd") -> Sat | C16: =D15 -> 0 | D16: =C16+G16 -> 0 | G16: =E16+F16 -> 0
A17: 5 | B17: =TEXT(DATE(YEAR($C$6),MONTH($C$6),A17),"ddd") -> Sun | C17: =D16 -> 0 | D17: =C17+G17 -> 0 | G17: =E17+F17 -> 0
A18: 6 | B18: =TEXT(DATE(YEAR($C$6),MONTH($C$6),A18),"ddd") -> Mon | C18: =D17 -> 0 | D18: =C18+G18 -> 0 | G18: =E18+F18 -> 0
A19: 7 | B19: =TEXT(DATE(YEAR($C$6),MONTH($C$6),A19),"ddd") -> Tue | C19: =D18 -> 0 | D19: =C19+G19 -> 0 | G19: =E19+F19 -> 0
A20: 8 | B20: =TEXT(DATE(YEAR($C$6),MONTH($C$6),A20),"ddd") -> Wed | C20: =D19 -> 0 | D20: =C20+G20 -> 0 | G20: =E20+F20 -> 0
A21: 9 | B21: =TEXT(DATE(YEAR($C$6),MONTH($C$6),A21),"ddd") -> Thu | C21: =D20 -> 0 | D21: =C21+G21 -> 0 | G21: =E21+F21 -> 0
A22: 10 | B22: =TEXT(DATE(YEAR($C$6),MONTH($C$6),A22),"ddd") -> Fri | C22: =D21 -> 0 | D22: =C22+G22 -> 0 | G22: =E22+F22 -> 0
A23: 11 | B23: =TEXT(DATE(YEAR($C$6),MONTH($C$6),A23),"ddd") -> Sat | C23: =D22 -> 0 | D23: =C23+G23 -> 0 | G23: =E23+F23 -> 0
A24: 12 | B24: =TEXT(DATE(YEAR($C$6),MONTH($C$6),A24),"ddd") -> Sun | C24: =D23 -> 0 | D24: =C24+G24 -> 0 | G24: =E24+F24 -> 0
A25: 13 | B25: =TEXT(DATE(YEAR($C$6),MONTH($C$6),A25),"ddd") -> Mon | C25: =D24 -> 0 | D25: =C25+G25 -> 0 | G25: =E25+F25 -> 0
... A42: 30 | B42: =TEXT(DATE(YEAR($C$6),MONTH($C$6),A42),"ddd") -> Thu | C42: =D41 -> 0 | D42: =C42+G42 -> 0 | G42: =E42+F42 -> 0
E43: =SUM(E13:E42) -> 0 | F43: =SUM(F13:F42) -> 0 | G43: =SUM(G13:G42) -> 0

Sheet May'26
A1: Taxpayer: | D1: ='Mar''26'!D1 -> 0 | G1: Client Nr: | H1: ='Mar''26'!H1 -> 0 | I1: ='Mar''26'!I1 -> 0
A2: Tax Number | D2: ='Mar''26'!D2 -> 0 | G2: Purchase Price: | I2: ='Mar''26'!I2 -> 0
A3: ='Mar''26'!A3 -> LOGBOOK FOR THE YEAR ENDED 28 February 2027 | G3: Purchase Date: | I3: ='Mar''26'!I3 -> 0
A5: Vehicle make & model: | D5: ='Mar''26'!D5 -> 0 | G5: Registration no: | H5: ='Mar''26'!H5 -> 0 | I5: ='Apr''26'!I5 -> 0
A6: Month: | C6: =EDATE(45778,12) -> 46143 | F6: Opening km's: | G6: ='Apr''26'!I6 -> 0 | H6: Closing km's: | I6: =G6+E8 -> 0
A8: Total km's for month: | E8: =G44 -> 0 | G8: Total km's to Date: | I8: ='Apr''26'!I8+'May''26'!G44 -> 0
A9: Total business km's for month: | E9: =E44 -> 0 | G9: Total business km's to Date: | I9: ='Apr''26'!I9+'May''26'!E44 -> 0
A10: Total private km's for month: | E10: =F44 -> 0 | G10: Total private km's to Date: | I10: ='Apr''26'!I10+'May''26'!F44 -> 0
A12: Date | B12: Day | C12: Start km | D12: End km | E12: Business | F12: Private | G12: Total | H12: From To | J12: Reason
A13: 1 | B13: =TEXT(DATE(YEAR($C$6),MONTH($C$6),A13),"ddd") -> Fri | C13: =G6 -> 0 | D13: =C13+G13 -> 0 | G13: =E13+F13 -> 0
A14: 2 | B14: =TEXT(DATE(YEAR($C$6),MONTH($C$6),A14),"ddd") -> Sat | C14: =D13 -> 0 | D14: =C14+G14 -> 0 | G14: =E14+F14 -> 0
A15: 3 | B15: =TEXT(DATE(YEAR($C$6),MONTH($C$6),A15),"ddd") -> Sun | C15: =D14 -> 0 | D15: =C15+G15 -> 0 | G15: =E15+F15 -> 0
A16: 4 | B16: =TEXT(DATE(YEAR($C$6),MONTH($C$6),A16),"ddd") -> Mon | C16: =D15 -> 0 | D16: =C16+G16 -> 0 | G16: =E16+F16 -> 0
A17: 5 | B17: =TEXT(DATE(YEAR($C$6),MONTH($C$6),A17),"ddd") -> Tue | C17: =D16 -> 0 | D17: =C17+G17 -> 0 | G17: =E17+F17 -> 0
A18: 6 | B18: =TEXT(DATE(YEAR($C$6),MONTH($C$6),A18),"ddd") -> Wed | C18: =D17 -> 0 | D18: =C18+G18 -> 0 | G18: =E18+F18 -> 0
A19: 7 | B19: =TEXT(DATE(YEAR($C$6),MONTH($C$6),A19),"ddd") -> Thu | C19: =D18 -> 0 | D19: =C19+G19 -> 0 | G19: =E19+F19 -> 0
A20: 8 | B20: =TEXT(DATE(YEAR($C$6),MONTH($C$6),A20),"ddd") -> Fri | C20: =D19 -> 0 | D20: =C20+G20 -> 0 | G20: =E20+F20 -> 0
A21: 9 | B21: =TEXT(DATE(YEAR($C$6),MONTH($C$6),A21),"ddd") -> Sat | C21: =D20 -> 0 | D21: =C21+G21 -> 0 | G21: =E21+F21 -> 0
A22: 10 | B22: =TEXT(DATE(YEAR($C$6),MONTH($C$6),A22),"ddd") -> Sun | C22: =D21 -> 0 | D22: =C22+G22 -> 0 | G22: =E22+F22 -> 0
A23: 11 | B23: =TEXT(DATE(YEAR($C$6),MONTH($C$6),A23),"ddd") -> Mon | C23: =D22 -> 0 | D23: =C23+G23 -> 0 | G23: =E23+F23 -> 0
A24: 12 | B24: =TEXT(DATE(YEAR($C$6),MONTH($C$6),A24),"ddd") -> Tue | C24: =D23 -> 0 | D24: =C24+G24 -> 0 | G24: =E24+F24 -> 0
A25: 13 | B25: =TEXT(DATE(YEAR($C$6),MONTH($C$6),A25),"ddd") -> Wed | C25: =D24 -> 0 | D25: =C25+G25 -> 0 | G25: =E25+F25 -> 0
... A43: 31 | B43: =TEXT(DATE(YEAR($C$6),MONTH($C$6),A43),"ddd") -> Sun | C43: =D42 -> 0 | D43: =C43+G43 -> 0 | G43: =E43+F43 -> 0
E44: =SUM(E13:E43) -> 0 | F44: =SUM(F13:F43) -> 0 | G44: =SUM(G13:G43) -> 0

Sheet Jun'26
A1: Taxpayer: | D1: ='Mar''26'!D1 -> 0 | G1: Client Nr: | H1: ='Mar''26'!H1 -> 0 | I1: ='Mar''26'!I1 -> 0
A2: Tax Number | D2: ='Mar''26'!D2 -> 0 | G2: Purchase Price: | I2: ='Mar''26'!I2 -> 0
A3: ='Mar''26'!A3 -> LOGBOOK FOR THE YEAR ENDED 28 February 2027 | G3: Purchase Date: | I3: ='Mar''26'!I3 -> 0
A5: Vehicle make & model: | D5: ='Mar''26'!D5 -> 0 | G5: Registration no: | H5: ='Mar''26'!H5 -> 0 | I5: ='May''26'!I5 -> 0
A6: Month: | C6: =EDATE(45809,12) -> 46174 | F6: Opening km's: | G6: ='May''26'!I6 -> 0 | H6: Closing km's: | I6: =G6+E8 -> 0
A8: Total km's for month: | E8: =G43 -> 0 | G8: Total km's to Date: | I8: ='May''26'!I8+'Jun''26'!G43 -> 0
A9: Total business km's for month: | E9: =E43 -> 0 | G9: Total business km's to Date: | I9: ='May''26'!I9+'Jun''26'!E43 -> 0
A10: Total private km's for month: | E10: =F43 -> 0 | G10: Total private km's to Date: | I10: ='May''26'!I10+'Jun''26'!F43 -> 0
A12: Date | B12: Day | C12: Start km | D12: End km | E12: Business | F12: Private | G12: Total | H12: From To | J12: Reason
A13: 1 | B13: =TEXT(DATE(YEAR($C$6),MONTH($C$6),A13),"ddd") -> Mon | C13: =G6 -> 0 | D13: =C13+G13 -> 0 | G13: =E13+F13 -> 0
A14: 2 | B14: =TEXT(DATE(YEAR($C$6),MONTH($C$6),A14),"ddd") -> Tue | C14: =D13 -> 0 | D14: =C14+G14 -> 0 | G14: =E14+F14 -> 0
A15: 3 | B15: =TEXT(DATE(YEAR($C$6),MONTH($C$6),A15),"ddd") -> Wed | C15: =D14 -> 0 | D15: =C15+G15 -> 0 | G15: =E15+F15 -> 0
A16: 4 | B16: =TEXT(DATE(YEAR($C$6),MONTH($C$6),A16),"ddd") -> Thu | C16: =D15 -> 0 | D16: =C16+G16 -> 0 | G16: =E16+F16 -> 0
A17: 5 | B17: =TEXT(DATE(YEAR($C$6),MONTH($C$6),A17),"ddd") -> Fri | C17: =D16 -> 0 | D17: =C17+G17 -> 0 | G17: =E17+F17 -> 0
A18: 6 | B18: =TEXT(DATE(YEAR($C$6),MONTH($C$6),A18),"ddd") -> Sat | C18: =D17 -> 0 | D18: =C18+G18 -> 0 | G18: =E18+F18 -> 0
A19: 7 | B19: =TEXT(DATE(YEAR($C$6),MONTH($C$6),A19),"ddd") -> Sun | C19: =D18 -> 0 | D19: =C19+G19 -> 0 | G19: =E19+F19 -> 0
A20: 8 | B20: =TEXT(DATE(YEAR($C$6),MONTH($C$6),A20),"ddd") -> Mon | C20: =D19 -> 0 | D20: =C20+G20 -> 0 | G20: =E20+F20 -> 0
A21: 9 | B21: =TEXT(DATE(YEAR($C$6),MONTH($C$6),A21),"ddd") -> Tue | C21: =D20 -> 0 | D21: =C21+G21 -> 0 | G21: =E21+F21 -> 0
A22: 10 | B22: =TEXT(DATE(YEAR($C$6),MONTH($C$6),A22),"ddd") -> Wed | C22: =D21 -> 0 | D22: =C22+G22 -> 0 | G22: =E22+F22 -> 0
A23: 11 | B23: =TEXT(DATE(YEAR($C$6),MONTH($C$6),A23),"ddd") -> Thu | C23: =D22 -> 0 | D23: =C23+G23 -> 0 | G23: =E23+F23 -> 0
A24: 12 | B24: =TEXT(DATE(YEAR($C$6),MONTH($C$6),A24),"ddd") -> Fri | C24: =D23 -> 0 | D24: =C24+G24 -> 0 | G24: =E24+F24 -> 0
A25: 13 | B25: =TEXT(DATE(YEAR($C$6),MONTH($C$6),A25),"ddd") -> Sat | C25: =D24 -> 0 | D25: =C25+G25 -> 0 | G25: =E25+F25 -> 0
... A42: 30 | B42: =TEXT(DATE(YEAR($C$6),MONTH($C$6),A42),"ddd") -> Tue | C42: =D41 -> 0 | D42: =C42+G42 -> 0 | G42: =E42+F42 -> 0
E43: =SUM(E13:E42) -> 0 | F43: =SUM(F13:F42) -> 0 | G43: =SUM(G13:G42) -> 0

Sheet Jul'26
A1: Taxpayer: | D1: ='Mar''26'!D1 -> 0 | G1: Client Nr: | H1: ='Mar''26'!H1 -> 0 | I1: ='Mar''26'!I1 -> 0
A2: Tax Number | D2: ='Mar''26'!D2 -> 0 | G2: Purchase Price: | I2: ='Mar''26'!I2 -> 0
A3: ='Mar''26'!A3 -> LOGBOOK FOR THE YEAR ENDED 28 February 2027 | G3: Purchase Date: | I3: ='Mar''26'!I3 -> 0
A5: Vehicle make & model: | D5: ='Mar''26'!D5 -> 0 | G5: Registration no: | H5: ='Mar''26'!H5 -> 0 | I5: ='Jun''26'!I5 -> 0
A6: Month: | C6: =EDATE(45839,12) -> 46204 | F6: Opening km's: | G6: ='Jun''26'!I6 -> 0 | H6: Closing km's: | I6: =G6+E8 -> 0
A8: Total km's for month: | E8: =G44 -> 0 | G8: Total km's to Date: | I8: ='Jun''26'!I8+'Jul''26'!G44 -> 0
A9: Total business km's for month: | E9: =E44 -> 0 | G9: Total business km's to Date: | I9: ='Jun''26'!I9+'Jul''26'!E44 -> 0
A10: Total private km's for month: | E10: =F44 -> 0 | G10: Total private km's to Date: | I10: ='Jun''26'!I10+'Jul''26'!F44 -> 0
A12: Date | B12: Day | C12: Start km | D12: End km | E12: Business | F12: Private | G12: Total | H12: From To | J12: Reason
A13: 1 | B13: =TEXT(DATE(YEAR($C$6),MONTH($C$6),A13),"ddd") -> Wed | C13: =G6 -> 0 | D13: =C13+G13 -> 0 | G13: =E13+F13 -> 0
A14: 2 | B14: =TEXT(DATE(YEAR($C$6),MONTH($C$6),A14),"ddd") -> Thu | C14: =D13 -> 0 | D14: =C14+G14 -> 0 | G14: =E14+F14 -> 0
A15: 3 | B15: =TEXT(DATE(YEAR($C$6),MONTH($C$6),A15),"ddd") -> Fri | C15: =D14 -> 0 | D15: =C15+G15 -> 0 | G15: =E15+F15 -> 0
A16: 4 | B16: =TEXT(DATE(YEAR($C$6),MONTH($C$6),A16),"ddd") -> Sat | C16: =D15 -> 0 | D16: =C16+G16 -> 0 | G16: =E16+F16 -> 0
A17: 5 | B17: =TEXT(DATE(YEAR($C$6),MONTH($C$6),A17),"ddd") -> Sun | C17: =D16 -> 0 | D17: =C17+G17 -> 0 | G17: =E17+F17 -> 0
A18: 6 | B18: =TEXT(DATE(YEAR($C$6),MONTH($C$6),A18),"ddd") -> Mon | C18: =D17 -> 0 | D18: =C18+G18 -> 0 | G18: =E18+F18 -> 0
A19: 7 | B19: =TEXT(DATE(YEAR($C$6),MONTH($C$6),A19),"ddd") -> Tue | C19: =D18 -> 0 | D19: =C19+G19 -> 0 | G19: =E19+F19 -> 0
A20: 8 | B20: =TEXT(DATE(YEAR($C$6),MONTH($C$6),A20),"ddd") -> Wed | C20: =D19 -> 0 | D20: =C20+G20 -> 0 | G20: =E20+F20 -> 0
A21: 9 | B21: =TEXT(DATE(YEAR($C$6),MONTH($C$6),A21),"ddd") -> Thu | C21: =D20 -> 0 | D21: =C21+G21 -> 0 | G21: =E21+F21 -> 0
A22: 10 | B22: =TEXT(DATE(YEAR($C$6),MONTH($C$6),A22),"ddd") -> Fri | C22: =D21 -> 0 | D22: =C22+G22 -> 0 | G22: =E22+F22 -> 0
A23: 11 | B23: =TEXT(DATE(YEAR($C$6),MONTH($C$6),A23),"ddd") -> Sat | C23: =D22 -> 0 | D23: =C23+G23 -> 0 | G23: =E23+F23 -> 0
A24: 12 | B24: =TEXT(DATE(YEAR($C$6),MONTH($C$6),A24),"ddd") -> Sun | C24: =D23 -> 0 | D24: =C24+G24 -> 0 | G24: =E24+F24 -> 0
A25: 13 | B25: =TEXT(DATE(YEAR($C$6),MONTH($C$6),A25),"ddd") -> Mon | C25: =D24 -> 0 | D25: =C25+G25 -> 0 | G25: =E25+F25 -> 0
... A43: 31 | B43: =TEXT(DATE(YEAR($C$6),MONTH($C$6),A43),"ddd") -> Fri | C43: =D42 -> 0 | D43: =C43+G43 -> 0 | G43: =E43+F43 -> 0
E44: =SUM(E13:E43) -> 0 | F44: =SUM(F13:F43) -> 0 | G44: =SUM(G13:G43) -> 0

Sheet Aug'26
A1: Taxpayer: | D1: ='Mar''26'!D1 -> 0 | G1: Client Nr: | H1: ='Mar''26'!H1 -> 0 | I1: ='Mar''26'!I1 -> 0
A2: Tax Number | D2: ='Mar''26'!D2 -> 0 | G2: Purchase Price: | I2: ='Mar''26'!I2 -> 0
A3: ='Mar''26'!A3 -> LOGBOOK FOR THE YEAR ENDED 28 February 2027 | G3: Purchase Date: | I3: ='Mar''26'!I3 -> 0
A5: Vehicle make & model: | D5: ='Mar''26'!D5 -> 0 | G5: Registration no: | H5: ='Mar''26'!H5 -> 0 | I5: ='Jul''26'!I5 -> 0
A6: Month: | C6: =EDATE(45870,12) -> 46235 | F6: Opening km's: | G6: ='Jul''26'!I6 -> 0 | H6: Closing km's: | I6: =G6+E8 -> 0
A8: Total km's for month: | E8: =G44 -> 0 | G8: Total km's to Date: | I8: ='Jul''26'!I8+'Aug''26'!G44 -> 0
A9: Total business km's for month: | E9: =E44 -> 0 | G9: Total business km's to Date: | I9: ='Jul''26'!I9+'Aug''26'!E44 -> 0
A10: Total private km's for month: | E10: =F44 -> 0 | G10: Total private km's to Date: | I10: ='Jul''26'!I10+'Aug''26'!F44 -> 0
A12: Date | B12: Day | C12: Start km | D12: End km | E12: Business | F12: Private | G12: Total | H12: From To | J12: Reason
A13: 1 | B13: =TEXT(DATE(YEAR($C$6),MONTH($C$6),A13),"ddd") -> Sat | C13: =G6 -> 0 | D13: =C13+G13 -> 0 | G13: =E13+F13 -> 0
A14: 2 | B14: =TEXT(DATE(YEAR($C$6),MONTH($C$6),A14),"ddd") -> Sun | C14: =D13 -> 0 | D14: =C14+G14 -> 0 | G14: =E14+F14 -> 0
A15: 3 | B15: =TEXT(DATE(YEAR($C$6),MONTH($C$6),A15),"ddd") -> Mon | C15: =D14 -> 0 | D15: =C15+G15 -> 0 | G15: =E15+F15 -> 0
A16: 4 | B16: =TEXT(DATE(YEAR($C$6),MONTH($C$6),A16),"ddd") -> Tue | C16: =D15 -> 0 | D16: =C16+G16 -> 0 | G16: =E16+F16 -> 0
A17: 5 | B17: =TEXT(DATE(YEAR($C$6),MONTH($C$6),A17),"ddd") -> Wed | C17: =D16 -> 0 | D17: =C17+G17 -> 0 | G17: =E17+F17 -> 0
A18: 6 | B18: =TEXT(DATE(YEAR($C$6),MONTH($C$6),A18),"ddd") -> Thu | C18: =D17 -> 0 | D18: =C18+G18 -> 0 | G18: =E18+F18 -> 0
A19: 7 | B19: =TEXT(DATE(YEAR($C$6),MONTH($C$6),A19),"ddd") -> Fri | C19: =D18 -> 0 | D19: =C19+G19 -> 0 | G19: =E19+F19 -> 0
A20: 8 | B20: =TEXT(DATE(YEAR($C$6),MONTH($C$6),A20),"ddd") -> Sat | C20: =D19 -> 0 | D20: =C20+G20 -> 0 | G20: =E20+F20 -> 0
A21: 9 | B21: =TEXT(DATE(YEAR($C$6),MONTH($C$6),A21),"ddd") -> Sun | C21: =D20 -> 0 | D21: =C21+G21 -> 0 | G21: =E21+F21 -> 0
A22: 10 | B22: =TEXT(DATE(YEAR($C$6),MONTH($C$6),A22),"ddd") -> Mon | C22: =D21 -> 0 | D22: =C22+G22 -> 0 | G22: =E22+F22 -> 0
A23: 11 | B23: =TEXT(DATE(YEAR($C$6),MONTH($C$6),A23),"ddd") -> Tue | C23: =D22 -> 0 | D23: =C23+G23 -> 0 | G23: =E23+F23 -> 0
A24: 12 | B24: =TEXT(DATE(YEAR($C$6),MONTH($C$6),A24),"ddd") -> Wed | C24: =D23 -> 0 | D24: =C24+G24 -> 0 | G24: =E24+F24 -> 0
A25: 13 | B25: =TEXT(DATE(YEAR($C$6),MONTH($C$6),A25),"ddd") -> Thu | C25: =D24 -> 0 | D25: =C25+G25 -> 0 | G25: =E25+F25 -> 0
... A43: 31 | B43: =TEXT(DATE(YEAR($C$6),MONTH($C$6),A43),"ddd") -> Mon | C43: =D42 -> 0 | D43: =C43+G43 -> 0 | G43: =E43+F43 -> 0
E44: =SUM(E13:E43) -> 0 | F44: =SUM(F13:F43) -> 0 | G44: =SUM(G13:G43) -> 0

Sheet Sep'26
A1: Taxpayer: | D1: ='Mar''26'!D1 -> 0 | G1: Client Nr: | H1: ='Mar''26'!H1 -> 0 | I1: ='Mar''26'!I1 -> 0
A2: Tax Number | D2: ='Mar''26'!D2 -> 0 | G2: Purchase Price: | I2: ='Mar''26'!I2 -> 0
A3: ='Mar''26'!A3 -> LOGBOOK FOR THE YEAR ENDED 28 February 2027 | G3: Purchase Date: | I3: ='Mar''26'!I3 -> 0
A5: Vehicle make & model: | D5: ='Mar''26'!D5 -> 0 | G5: Registration no: | H5: ='Mar''26'!H5 -> 0 | I5: ='Aug''26'!I5 -> 0
A6: Month: | C6: =EDATE(45901,12) -> 46266 | F6: Opening km's: | G6: ='Aug''26'!I6 -> 0 | H6: Closing km's: | I6: =G6+E8 -> 0
A8: Total km's for month: | E8: =G43 -> 0 | G8: Total km's to Date: | I8: ='Aug''26'!I8+'Sep''26'!G43 -> 0
A9: Total business km's for month: | E9: =E43 -> 0 | G9: Total business km's to Date: | I9: ='Aug''26'!I9+'Sep''26'!E43 -> 0
A10: Total private km's for month: | E10: =F43 -> 0 | G10: Total private km's to Date: | I10: ='Aug''26'!I10+'Sep''26'!F43 -> 0
A12: Date | B12: Day | C12: Start km | D12: End km | E12: Business | F12: Private | G12: Total | H12: From To | J12: Reason
A13: 1 | B13: =TEXT(DATE(YEAR($C$6),MONTH($C$6),A13),"ddd") -> Tue | C13: =G6 -> 0 | D13: =C13+G13 -> 0 | G13: =E13+F13 -> 0
A14: 2 | B14: =TEXT(DATE(YEAR($C$6),MONTH($C$6),A14),"ddd") -> Wed | C14: =D13 -> 0 | D14: =C14+G14 -> 0 | G14: =E14+F14 -> 0
A15: 3 | B15: =TEXT(DATE(YEAR($C$6),MONTH($C$6),A15),"ddd") -> Thu | C15: =D14 -> 0 | D15: =C15+G15 -> 0 | G15: =E15+F15 -> 0
A16: 4 | B16: =TEXT(DATE(YEAR($C$6),MONTH($C$6),A16),"ddd") -> Fri | C16: =D15 -> 0 | D16: =C16+G16 -> 0 | G16: =E16+F16 -> 0
A17: 5 | B17: =TEXT(DATE(YEAR($C$6),MONTH($C$6),A17),"ddd") -> Sat | C17: =D16 -> 0 | D17: =C17+G17 -> 0 | G17: =E17+F17 -> 0
A18: 6 | B18: =TEXT(DATE(YEAR($C$6),MONTH($C$6),A18),"ddd") -> Sun | C18: =D17 -> 0 | D18: =C18+G18 -> 0 | G18: =E18+F18 -> 0
A19: 7 | B19: =TEXT(DATE(YEAR($C$6),MONTH($C$6),A19),"ddd") -> Mon | C19: =D18 -> 0 | D19: =C19+G19 -> 0 | G19: =E19+F19 -> 0
A20: 8 | B20: =TEXT(DATE(YEAR($C$6),MONTH($C$6),A20),"ddd") -> Tue | C20: =D19 -> 0 | D20: =C20+G20 -> 0 | G20: =E20+F20 -> 0
A21: 9 | B21: =TEXT(DATE(YEAR($C$6),MONTH($C$6),A21),"ddd") -> Wed | C21: =D20 -> 0 | D21: =C21+G21 -> 0 | G21: =E21+F21 -> 0
A22: 10 | B22: =TEXT(DATE(YEAR($C$6),MONTH($C$6),A22),"ddd") -> Thu | C22: =D21 -> 0 | D22: =C22+G22 -> 0 | G22: =E22+F22 -> 0
A23: 11 | B23: =TEXT(DATE(YEAR($C$6),MONTH($C$6),A23),"ddd") -> Fri | C23: =D22 -> 0 | D23: =C23+G23 -> 0 | G23: =E23+F23 -> 0
A24: 12 | B24: =TEXT(DATE(YEAR($C$6),MONTH($C$6),A24),"ddd") -> Sat | C24: =D23 -> 0 | D24: =C24+G24 -> 0 | G24: =E24+F24 -> 0
A25: 13 | B25: =TEXT(DATE(YEAR($C$6),MONTH($C$6),A25),"ddd") -> Sun | C25: =D24 -> 0 | D25: =C25+G25 -> 0 | G25: =E25+F25 -> 0
... A42: 30 | B42: =TEXT(DATE(YEAR($C$6),MONTH($C$6),A42),"ddd") -> Wed | C42: =D41 -> 0 | D42: =C42+G42 -> 0 | G42: =E42+F42 -> 0
E43: =SUM(E13:E42) -> 0 | F43: =SUM(F13:F42) -> 0 | G43: =SUM(G13:G42) -> 0

Sheet Oct'26
A1: Taxpayer: | D1: ='Mar''26'!D1 -> 0 | G1: Client Nr: | H1: ='Mar''26'!H1 -> 0 | I1: ='Mar''26'!I1 -> 0
A2: Tax Number | D2: ='Mar''26'!D2 -> 0 | G2: Purchase Price: | I2: ='Mar''26'!I2 -> 0
A3: ='Mar''26'!A3 -> LOGBOOK FOR THE YEAR ENDED 28 February 2027 | G3: Purchase Date: | I3: ='Mar''26'!I3 -> 0
A5: Vehicle make & model: | D5: ='Mar''26'!D5 -> 0 | G5: Registration no: | H5: ='Mar''26'!H5 -> 0 | I5: ='Sep''26'!I5 -> 0
A6: Month: | C6: =EDATE(45931,12) -> 46296 | F6: Opening km's: | G6: ='Sep''26'!I6 -> 0 | H6: Closing km's: | I6: =G6+E8 -> 0
A8: Total km's for month: | E8: =G44 -> 0 | G8: Total km's to Date: | I8: ='Sep''26'!I8+'Oct''26'!G44 -> 0
A9: Total business km's for month: | E9: =E44 -> 0 | G9: Total business km's to Date: | I9: ='Sep''26'!I9+'Oct''26'!E44 -> 0
A10: Total private km's for month: | E10: =F44 -> 0 | G10: Total private km's to Date: | I10: ='Sep''26'!I10+'Oct''26'!F44 -> 0
A12: Date | B12: Day | C12: Start km | D12: End km | E12: Business | F12: Private | G12: Total | H12: From To | J12: Reason
A13: 1 | B13: =TEXT(DATE(YEAR($C$6),MONTH($C$6),A13),"ddd") -> Thu | C13: =G6 -> 0 | D13: =C13+G13 -> 0 | G13: =E13+F13 -> 0
A14: 2 | B14: =TEXT(DATE(YEAR($C$6),MONTH($C$6),A14),"ddd") -> Fri | C14: =D13 -> 0 | D14: =C14+G14 -> 0 | G14: =E14+F14 -> 0
A15: 3 | B15: =TEXT(DATE(YEAR($C$6),MONTH($C$6),A15),"ddd") -> Sat | C15: =D14 -> 0 | D15: =C15+G15 -> 0 | G15: =E15+F15 -> 0
A16: 4 | B16: =TEXT(DATE(YEAR($C$6),MONTH($C$6),A16),"ddd") -> Sun | C16: =D15 -> 0 | D16: =C16+G16 -> 0 | G16: =E16+F16 -> 0
A17: 5 | B17: =TEXT(DATE(YEAR($C$6),MONTH($C$6),A17),"ddd") -> Mon | C17: =D16 -> 0 | D17: =C17+G17 -> 0 | G17: =E17+F17 -> 0
A18: 6 | B18: =TEXT(DATE(YEAR($C$6),MONTH($C$6),A18),"ddd") -> Tue | C18: =D17 -> 0 | D18: =C18+G18 -> 0 | G18: =E18+F18 -> 0
A19: 7 | B19: =TEXT(DATE(YEAR($C$6),MONTH($C$6),A19),"ddd") -> Wed | C19: =D18 -> 0 | D19: =C19+G19 -> 0 | G19: =E19+F19 -> 0
A20: 8 | B20: =TEXT(DATE(YEAR($C$6),MONTH($C$6),A20),"ddd") -> Thu | C20: =D19 -> 0 | D20: =C20+G20 -> 0 | G20: =E20+F20 -> 0
A21: 9 | B21: =TEXT(DATE(YEAR($C$6),MONTH($C$6),A21),"ddd") -> Fri | C21: =D20 -> 0 | D21: =C21+G21 -> 0 | G21: =E21+F21 -> 0
A22: 10 | B22: =TEXT(DATE(YEAR($C$6),MONTH($C$6),A22),"ddd") -> Sat | C22: =D21 -> 0 | D22: =C22+G22 -> 0 | G22: =E22+F22 -> 0
A23: 11 | B23: =TEXT(DATE(YEAR($C$6),MONTH($C$6),A23),"ddd") -> Sun | C23: =D22 -> 0 | D23: =C23+G23 -> 0 | G23: =E23+F23 -> 0
A24: 12 | B24: =TEXT(DATE(YEAR($C$6),MONTH($C$6),A24),"ddd") -> Mon | C24: =D23 -> 0 | D24: =C24+G24 -> 0 | G24: =E24+F24 -> 0
A25: 13 | B25: =TEXT(DATE(YEAR($C$6),MONTH($C$6),A25),"ddd") -> Tue | C25: =D24 -> 0 | D25: =C25+G25 -> 0 | G25: =E25+F25 -> 0
... A43: 31 | B43: =TEXT(DATE(YEAR($C$6),MONTH($C$6),A43),"ddd") -> Sat | C43: =D42 -> 0 | D43: =C43+G43 -> 0 | G43: =E43+F43 -> 0
E44: =SUM(E13:E43) -> 0 | F44: =SUM(F13:F43) -> 0 | G44: =SUM(G13:G43) -> 0

Sheet Nov'26
A1: Taxpayer: | D1: ='Mar''26'!D1 -> 0 | G1: Client Nr: | H1: ='Mar''26'!H1 -> 0 | I1: ='Mar''26'!I1 -> 0
A2: Tax Number | D2: ='Mar''26'!D2 -> 0 | G2: Purchase Price: | I2: ='Mar''26'!I2 -> 0
A3: ='Mar''26'!A3 -> LOGBOOK FOR THE YEAR ENDED 28 February 2027 | G3: Purchase Date: | I3: ='Mar''26'!I3 -> 0
A5: Vehicle make & model: | D5: ='Mar''26'!D5 -> 0 | G5: Registration no: | H5: ='Mar''26'!H5 -> 0 | I5: ='Oct''26'!I5 -> 0
A6: Month: | C6: =EDATE(45962,12) -> 46327 | F6: Opening km's: | G6: ='Oct''26'!I6 -> 0 | H6: Closing km's: | I6: =G6+E8 -> 0
A8: Total km's for month: | E8: =G43 -> 0 | G8: Total km's to Date: | I8: ='Oct''26'!I8+'Nov''26'!G43 -> 0
A9: Total business km's for month: | E9: =E43 -> 0 | G9: Total business km's to Date: | I9: ='Oct''26'!I9+'Nov''26'!E43 -> 0
A10: Total private km's for month: | E10: =F43 -> 0 | G10: Total private km's to Date: | I10: ='Oct''26'!I10+'Nov''26'!F43 -> 0
A12: Date | B12: Day | C12: Start km | D12: End km | E12: Business | F12: Private | G12: Total | H12: From To | J12: Reason
A13: 1 | B13: =TEXT(DATE(YEAR($C$6),MONTH($C$6),A13),"ddd") -> Sun | C13: =G6 -> 0 | D13: =C13+G13 -> 0 | G13: =E13+F13 -> 0
A14: 2 | B14: =TEXT(DATE(YEAR($C$6),MONTH($C$6),A14),"ddd") -> Mon | C14: =D13 -> 0 | D14: =C14+G14 -> 0 | G14: =E14+F14 -> 0
A15: 3 | B15: =TEXT(DATE(YEAR($C$6),MONTH($C$6),A15),"ddd") -> Tue | C15: =D14 -> 0 | D15: =C15+G15 -> 0 | G15: =E15+F15 -> 0
A16: 4 | B16: =TEXT(DATE(YEAR($C$6),MONTH($C$6),A16),"ddd") -> Wed | C16: =D15 -> 0 | D16: =C16+G16 -> 0 | G16: =E16+F16 -> 0
A17: 5 | B17: =TEXT(DATE(YEAR($C$6),MONTH($C$6),A17),"ddd") -> Thu | C17: =D16 -> 0 | D17: =C17+G17 -> 0 | G17: =E17+F17 -> 0
A18: 6 | B18: =TEXT(DATE(YEAR($C$6),MONTH($C$6),A18),"ddd") -> Fri | C18: =D17 -> 0 | D18: =C18+G18 -> 0 | G18: =E18+F18 -> 0
A19: 7 | B19: =TEXT(DATE(YEAR($C$6),MONTH($C$6),A19),"ddd") -> Sat | C19: =D18 -> 0 | D19: =C19+G19 -> 0 | G19: =E19+F19 -> 0
A20: 8 | B20: =TEXT(DATE(YEAR($C$6),MONTH($C$6),A20),"ddd") -> Sun | C20: =D19 -> 0 | D20: =C20+G20 -> 0 | G20: =E20+F20 -> 0
A21: 9 | B21: =TEXT(DATE(YEAR($C$6),MONTH($C$6),A21),"ddd") -> Mon | C21: =D20 -> 0 | D21: =C21+G21 -> 0 | G21: =E21+F21 -> 0
A22: 10 | B22: =TEXT(DATE(YEAR($C$6),MONTH($C$6),A22),"ddd") -> Tue | C22: =D21 -> 0 | D22: =C22+G22 -> 0 | G22: =E22+F22 -> 0
A23: 11 | B23: =TEXT(DATE(YEAR($C$6),MONTH($C$6),A23),"ddd") -> Wed | C23: =D22 -> 0 | D23: =C23+G23 -> 0 | G23: =E23+F23 -> 0
A24: 12 | B24: =TEXT(DATE(YEAR($C$6),MONTH($C$6),A24),"ddd") -> Thu | C24: =D23 -> 0 | D24: =C24+G24 -> 0 | G24: =E24+F24 -> 0
A25: 13 | B25: =TEXT(DATE(YEAR($C$6),MONTH($C$6),A25),"ddd") -> Fri | C25: =D24 -> 0 | D25: =C25+G25 -> 0 | G25: =E25+F25 -> 0
... A42: 30 | B42: =TEXT(DATE(YEAR($C$6),MONTH($C$6),A42),"ddd") -> Mon | C42: =D41 -> 0 | D42: =C42+G42 -> 0 | G42: =E42+F42 -> 0
E43: =SUM(E13:E42) -> 0 | F43: =SUM(F13:F42) -> 0 | G43: =SUM(G13:G42) -> 0

Sheet Dec'26
A1: Taxpayer: | D1: ='Mar''26'!D1 -> 0 | G1: Client Nr: | H1: ='Mar''26'!H1 -> 0 | I1: ='Mar''26'!I1 -> 0
A2: Tax Number | D2: ='Mar''26'!D2 -> 0 | G2: Purchase Price: | I2: ='Mar''26'!I2 -> 0
A3: ='Mar''26'!A3 -> LOGBOOK FOR THE YEAR ENDED 28 February 2027 | G3: Purchase Date: | I3: ='Mar''26'!I3 -> 0
A5: Vehicle make & model: | D5: ='Mar''26'!D5 -> 0 | G5: Registration no: | H5: ='Mar''26'!H5 -> 0 | I5: ='Nov''26'!I5 -> 0
A6: Month: | C6: =EDATE(45992,12) -> 46357 | F6: Opening km's: | G6: ='Nov''26'!I6 -> 0 | H6: Closing km's: | I6: =G6+E8 -> 0
A8: Total km's for month: | E8: =G44 -> 0 | G8: Total km's to Date: | I8: ='Nov''26'!I8+'Dec''26'!G44 -> 0
A9: Total business km's for month: | E9: =E44 -> 0 | G9: Total business km's to Date: | I9: ='Nov''26'!I9+'Dec''26'!E44 -> 0
A10: Total private km's for month: | E10: =F44 -> 0 | G10: Total private km's to Date: | I10: ='Nov''26'!I10+'Dec''26'!F44 -> 0
A12: Date | B12: Day | C12: Start km | D12: End km | E12: Business | F12: Private | G12: Total | H12: From To | J12: Reason
A13: 1 | B13: =TEXT(DATE(YEAR($C$6),MONTH($C$6),A13),"ddd") -> Tue | C13: =G6 -> 0 | D13: =C13+G13 -> 0 | G13: =E13+F13 -> 0
A14: 2 | B14: =TEXT(DATE(YEAR($C$6),MONTH($C$6),A14),"ddd") -> Wed | C14: =D13 -> 0 | D14: =C14+G14 -> 0 | G14: =E14+F14 -> 0
A15: 3 | B15: =TEXT(DATE(YEAR($C$6),MONTH($C$6),A15),"ddd") -> Thu | C15: =D14 -> 0 | D15: =C15+G15 -> 0 | G15: =E15+F15 -> 0
A16: 4 | B16: =TEXT(DATE(YEAR($C$6),MONTH($C$6),A16),"ddd") -> Fri | C16: =D15 -> 0 | D16: =C16+G16 -> 0 | G16: =E16+F16 -> 0
A17: 5 | B17: =TEXT(DATE(YEAR($C$6),MONTH($C$6),A17),"ddd") -> Sat | C17: =D16 -> 0 | D17: =C17+G17 -> 0 | G17: =E17+F17 -> 0
A18: 6 | B18: =TEXT(DATE(YEAR($C$6),MONTH($C$6),A18),"ddd") -> Sun | C18: =D17 -> 0 | D18: =C18+G18 -> 0 | G18: =E18+F18 -> 0
A19: 7 | B19: =TEXT(DATE(YEAR($C$6),MONTH($C$6),A19),"ddd") -> Mon | C19: =D18 -> 0 | D19: =C19+G19 -> 0 | G19: =E19+F19 -> 0
A20: 8 | B20: =TEXT(DATE(YEAR($C$6),MONTH($C$6),A20),"ddd") -> Tue | C20: =D19 -> 0 | D20: =C20+G20 -> 0 | G20: =E20+F20 -> 0
A21: 9 | B21: =TEXT(DATE(YEAR($C$6),MONTH($C$6),A21),"ddd") -> Wed | C21: =D20 -> 0 | D21: =C21+G21 -> 0 | G21: =E21+F21 -> 0
A22: 10 | B22: =TEXT(DATE(YEAR($C$6),MONTH($C$6),A22),"ddd") -> Thu | C22: =D21 -> 0 | D22: =C22+G22 -> 0 | G22: =E22+F22 -> 0
A23: 11 | B23: =TEXT(DATE(YEAR($C$6),MONTH($C$6),A23),"ddd") -> Fri | C23: =D22 -> 0 | D23: =C23+G23 -> 0 | G23: =E23+F23 -> 0
A24: 12 | B24: =TEXT(DATE(YEAR($C$6),MONTH($C$6),A24),"ddd") -> Sat | C24: =D23 -> 0 | D24: =C24+G24 -> 0 | G24: =E24+F24 -> 0
A25: 13 | B25: =TEXT(DATE(YEAR($C$6),MONTH($C$6),A25),"ddd") -> Sun | C25: =D24 -> 0 | D25: =C25+G25 -> 0 | G25: =E25+F25 -> 0
... A43: 31 | B43: =TEXT(DATE(YEAR($C$6),MONTH($C$6),A43),"ddd") -> Thu | C43: =D42 -> 0 | D43: =C43+G43 -> 0 | G43: =E43+F43 -> 0
E44: =SUM(E13:E43) -> 0 | F44: =SUM(F13:F43) -> 0 | G44: =SUM(G13:G43) -> 0

Sheet Jan'27
A1: Taxpayer: | D1: ='Mar''26'!D1 -> 0 | G1: Client Nr: | H1: ='Mar''26'!H1 -> 0
A2: Tax Number | D2: ='Mar''26'!D2 -> 0 | G2: Purchase Price: | I2: ='Mar''26'!I2 -> 0
A3: ='Mar''26'!A3 -> LOGBOOK FOR THE YEAR ENDED 28 February 2027 | G3: Purchase Date: | I3: ='Mar''26'!I3 -> 0
A5: Vehicle make & model: | D5: ='Mar''26'!D5 -> 0 | G5: Registration no: | H5: ='Mar''26'!H5 -> 0 | I5: ='Dec''26'!I5 -> 0
A6: Month: | C6: =EDATE(46023,12) -> 46388 | F6: Opening km's: | G6: ='Dec''26'!I6 -> 0 | H6: Closing km's: | I6: =G6+E8 -> 0
A8: Total km's for month: | E8: =G44 -> 0 | G8: Total km's to Date: | I8: ='Dec''26'!I8+'Jan''27'!G44 -> 0
A9: Total business km's for month: | E9: =E44 -> 0 | G9: Total business km's to Date: | I9: ='Dec''26'!I9+'Jan''27'!E44 -> 0
A10: Total private km's for month: | E10: =F44 -> 0 | G10: Total private km's to Date: | I10: ='Dec''26'!I10+'Jan''27'!F44 -> 0
A12: Date | B12: Day | C12: Start km | D12: End km | E12: Business | F12: Private | G12: Total | H12: From To | J12: Reason
A13: 1 | B13: =TEXT(DATE(YEAR($C$6),MONTH($C$6),A13),"ddd") -> Fri | C13: =G6 -> 0 | D13: =C13+G13 -> 0 | G13: =E13+F13 -> 0
A14: 2 | B14: =TEXT(DATE(YEAR($C$6),MONTH($C$6),A14),"ddd") -> Sat | C14: =D13 -> 0 | D14: =C14+G14 -> 0 | G14: =E14+F14 -> 0
A15: 3 | B15: =TEXT(DATE(YEAR($C$6),MONTH($C$6),A15),"ddd") -> Sun | C15: =D14 -> 0 | D15: =C15+G15 -> 0 | G15: =E15+F15 -> 0
A16: 4 | B16: =TEXT(DATE(YEAR($C$6),MONTH($C$6),A16),"ddd") -> Mon | C16: =D15 -> 0 | D16: =C16+G16 -> 0 | G16: =E16+F16 -> 0
A17: 5 | B17: =TEXT(DATE(YEAR($C$6),MONTH($C$6),A17),"ddd") -> Tue | C17: =D16 -> 0 | D17: =C17+G17 -> 0 | G17: =E17+F17 -> 0
A18: 6 | B18: =TEXT(DATE(YEAR($C$6),MONTH($C$6),A18),"ddd") -> Wed | C18: =D17 -> 0 | D18: =C18+G18 -> 0 | G18: =E18+F18 -> 0
A19: 7 | B19: =TEXT(DATE(YEAR($C$6),MONTH($C$6),A19),"ddd") -> Thu | C19: =D18 -> 0 | D19: =C19+G19 -> 0 | G19: =E19+F19 -> 0
A20: 8 | B20: =TEXT(DATE(YEAR($C$6),MONTH($C$6),A20),"ddd") -> Fri | C20: =D19 -> 0 | D20: =C20+G20 -> 0 | G20: =E20+F20 -> 0
A21: 9 | B21: =TEXT(DATE(YEAR($C$6),MONTH($C$6),A21),"ddd") -> Sat | C21: =D20 -> 0 | D21: =C21+G21 -> 0 | G21: =E21+F21 -> 0
A22: 10 | B22: =TEXT(DATE(YEAR($C$6),MONTH($C$6),A22),"ddd") -> Sun | C22: =D21 -> 0 | D22: =C22+G22 -> 0 | G22: =E22+F22 -> 0
A23: 11 | B23: =TEXT(DATE(YEAR($C$6),MONTH($C$6),A23),"ddd") -> Mon | C23: =D22 -> 0 | D23: =C23+G23 -> 0 | G23: =E23+F23 -> 0
A24: 12 | B24: =TEXT(DATE(YEAR($C$6),MONTH($C$6),A24),"ddd") -> Tue | C24: =D23 -> 0 | D24: =C24+G24 -> 0 | G24: =E24+F24 -> 0
A25: 13 | B25: =TEXT(DATE(YEAR($C$6),MONTH($C$6),A25),"ddd") -> Wed | C25: =D24 -> 0 | D25: =C25+G25 -> 0 | G25: =E25+F25 -> 0
... A43: 31 | B43: =TEXT(DATE(YEAR($C$6),MONTH($C$6),A43),"ddd") -> Sun | C43: =D42 -> 0 | D43: =C43+G43 -> 0 | G43: =E43+F43 -> 0
E44: =SUM(E13:E43) -> 0 | F44: =SUM(F13:F43) -> 0 | G44: =SUM(G13:G43) -> 0

Sheet Feb'27
A1: Taxpayer: | D1: ='Mar''26'!D1 -> 0 | G1: Client Nr: | H1: ='Mar''26'!H1 -> 0
A2: Tax Number | D2: ='Mar''26'!D2 -> 0 | G2: Purchase Price: | I2: ='Mar''26'!I2 -> 0
A3: ='Mar''26'!A3 -> LOGBOOK FOR THE YEAR ENDED 28 February 2027 | G3: Purchase Date: | I3: ='Mar''26'!I3 -> 0
A5: Vehicle make & model: | D5: ='Mar''26'!D5 -> 0 | G5: Registration no: | H5: ='Mar''26'!H5 -> 0 | I5: ='Dec''26'!I5 -> 0
A6: Month: | C6: =EDATE(46054,12) -> 46419 | F6: Opening km's: | G6: ='Jan''27'!I6 -> 0 | H6: Closing km's: | I6: =G6+E8 -> 0
A8: Total km's for month: | E8: =G41 -> 0 | G8: Total km's to Date: | I8: ='Jan''27'!I8+'Feb''27'!G41 -> 0
A9: Total business km's for month: | E9: =E41 -> 0 | G9: Total business km's to Date: | I9: ='Jan''27'!I9+'Feb''27'!E41 -> 0
A10: Total private km's for month: | E10: =F41 -> 0 | G10: Total private km's to Date: | I10: ='Jan''27'!I10+'Feb''27'!F41 -> 0
A12: Date | B12: Day | C12: Start km | D12: End km | E12: Business | F12: Private | G12: Total | H12: From To | J12: Reason
A13: 1 | B13: =TEXT(DATE(YEAR($C$6),MONTH($C$6),A13),"ddd") -> Mon | C13: ='Jan''27'!D43 -> 0 | D13: =C13+G13 -> 0 | G13: =E13+F13 -> 0
A14: 2 | B14: =TEXT(DATE(YEAR($C$6),MONTH($C$6),A14),"ddd") -> Tue | C14: =D13 -> 0 | D14: =C14+G14 -> 0 | G14: =E14+F14 -> 0
A15: 3 | B15: =TEXT(DATE(YEAR($C$6),MONTH($C$6),A15),"ddd") -> Wed | C15: =D14 -> 0 | D15: =C15+G15 -> 0 | G15: =E15+F15 -> 0
A16: 4 | B16: =TEXT(DATE(YEAR($C$6),MONTH($C$6),A16),"ddd") -> Thu | C16: =D15 -> 0 | D16: =C16+G16 -> 0 | G16: =E16+F16 -> 0
A17: 5 | B17: =TEXT(DATE(YEAR($C$6),MONTH($C$6),A17),"ddd") -> Fri | C17: =D16 -> 0 | D17: =C17+G17 -> 0 | G17: =E17+F17 -> 0
A18: 6 | B18: =TEXT(DATE(YEAR($C$6),MONTH($C$6),A18),"ddd") -> Sat | C18: =D17 -> 0 | D18: =C18+G18 -> 0 | G18: =E18+F18 -> 0
A19: 7 | B19: =TEXT(DATE(YEAR($C$6),MONTH($C$6),A19),"ddd") -> Sun | C19: =D18 -> 0 | D19: =C19+G19 -> 0 | G19: =E19+F19 -> 0
A20: 8 | B20: =TEXT(DATE(YEAR($C$6),MONTH($C$6),A20),"ddd") -> Mon | C20: =D19 -> 0 | D20: =C20+G20 -> 0 | G20: =E20+F20 -> 0
A21: 9 | B21: =TEXT(DATE(YEAR($C$6),MONTH($C$6),A21),"ddd") -> Tue | C21: =D20 -> 0 | D21: =C21+G21 -> 0 | G21: =E21+F21 -> 0
A22: 10 | B22: =TEXT(DATE(YEAR($C$6),MONTH($C$6),A22),"ddd") -> Wed | C22: =D21 -> 0 | D22: =C22+G22 -> 0 | G22: =E22+F22 -> 0
A23: 11 | B23: =TEXT(DATE(YEAR($C$6),MONTH($C$6),A23),"ddd") -> Thu | C23: =D22 -> 0 | D23: =C23+G23 -> 0 | G23: =E23+F23 -> 0
A24: 12 | B24: =TEXT(DATE(YEAR($C$6),MONTH($C$6),A24),"ddd") -> Fri | C24: =D23 -> 0 | D24: =C24+G24 -> 0 | G24: =E24+F24 -> 0
A25: 13 | B25: =TEXT(DATE(YEAR($C$6),MONTH($C$6),A25),"ddd") -> Sat | C25: =D24 -> 0 | D25: =C25+G25 -> 0 | G25: =E25+F25 -> 0
... A40: 28 | B40: =TEXT(DATE(YEAR($C$6),MONTH($C$6),A40),"ddd") -> Sun | C40: =D39 -> 0 | D40: =C40+G40 -> 0 | G40: =E40+F40 -> 0
E41: =SUM(E13:E40) -> 0 | F41: =SUM(F13:F40) -> 0 | G41: =SUM(G13:G40) -> 0

Sheet Total
A1: Taxpayer: | D1: ='Mar''26'!D1 -> 0 | G1: Client Nr: | I1: ='Mar''26'!I1 -> 0
A2: Tax Number | D2: ='Mar''26'!D2 -> 0 | G2: Purchase Price: | I2: ='Mar''26'!I2 -> 0
A3: ='Mar''26'!A3 -> LOGBOOK FOR THE YEAR ENDED 28 February 2027 | G3: Purchase Date: | I3: =+'Mar''26'!I3 -> 0
A5: Vehicle make & model: | D5: =+'Feb''27'!D5 -> 0 | G5: Registration no: | I5: ='Dec''26'!I5 -> 0
F6: Opening km's: | G6: =+'Mar''26'!G6 -> 0 | H6: Closing km's: | I6: =+'Feb''27'!I6 -> 0
A8: Total km's for year: | E8: =+I6-G6 -> 0
A9: Total business km's for year: | E9: =+'Mar''26'!E9+'Apr''26'!E9+'May''26'!E9+'Jun''26'!E9+'Jul''26'!E9+'Aug''26'!E9+'Sep''26'!E9+'Oct''26'!E9+'Nov''26'!E9+'Dec''26'!E9+'Jan''27'!E9+'Feb''27'!E9 -> 0
A10: Total private km's for year: | E10: =+'Mar''26'!E10+'Apr''26'!E10+'May''26'!E10+'Jun''26'!E10+'Jul''26'!E10+'Aug''26'!E10+'Sep''26'!E10+'Oct''26'!E10+'Nov''26'!E10+'Dec''26'!E10+'Jan''27'!E10+'Feb''27'!E10 -> 0
